BEGIN:VCALENDAR
VERSION:2.0
METHOD:print PUBLISH
X-WR-CALNAME;VALUE=TEXT:Календарь событий VELOBY.NET | VELOBY.NET
PRODID:-//Drupal iCal API//EN
BEGIN:VEVENT
UID:calendar.21572.field_date.0.0
SUMMARY:VELOBY: ПВД 1-3 мая: Елизово-Березина-Красное  \n
 знамя
DTSTAMP:20260424T160228Z
DTSTART:20260501T110000Z
DTEND:20260501T110000Z
URL;VALUE=URI:https://veloby.net/ride/2026/04/pvd-1-3-maya-elizovo-berezina-krasnoe-znamya
END:VEVENT
BEGIN:VEVENT
UID:calendar.21569.field_date.0.1
SUMMARY:VELOBY: Минск- Леоновичи c ночевкой на природе  \n
 ( 310 км туда обратно ) Update!
DTSTAMP:20260424T160228Z
DTSTART:20260502T023000Z
DTEND:20260502T023000Z
URL;VALUE=URI:https://veloby.net/ride/2026/04/minsk-leonovii-i-obratno
END:VEVENT
END:VCALENDAR
