BEGIN:VCALENDAR
VERSION:2.0
METHOD:print PUBLISH
X-WR-CALNAME;VALUE=TEXT:Календарь событий VELOBY.NET | VELOBY.NET
PRODID:-//Drupal iCal API//EN
BEGIN:VEVENT
UID:calendar.21532.field_date.0.0
SUMMARY:VELOBY: Южные приключения. Разливы на Уборти
DTSTAMP:20260420T041718Z
DTSTART:20260403T153000Z
DTEND:20260403T153000Z
URL;VALUE=URI:https://veloby.net/ride/2026/03/yuzhnye-priklyucheniya-razlivy-na-uborti
END:VEVENT
BEGIN:VEVENT
UID:calendar.21553.field_date.0.1
SUMMARY:VELOBY: К сезону готовы! (Или нет...?)
DTSTAMP:20260420T041718Z
DTSTART:20260405T045000Z
DTEND:20260405T045000Z
URL;VALUE=URI:https://veloby.net/ride/2026/03/k-sezonu-gotovy-ili-net
END:VEVENT
BEGIN:VEVENT
UID:calendar.21560.field_date.0.2
SUMMARY:VELOBY: Болотные приключения: Болото Славное  \n
 + о. Космачевское
DTSTAMP:20260420T041718Z
DTSTART:20260411T063000Z
DTEND:20260411T063000Z
URL;VALUE=URI:https://veloby.net/ride/2026/04/bolotnye-priklyucheniya-boloto-slavnoe-o-kosmachevskoe
END:VEVENT
BEGIN:VEVENT
UID:calendar.21559.field_date.0.3
SUMMARY:VELOBY: Пасхальный обед на Немане
DTSTAMP:20260420T041718Z
DTSTART:20260412T053000Z
DTEND:20260412T053000Z
URL;VALUE=URI:https://veloby.net/ride/2026/04/paskhalnyi-obed-na-nemane
END:VEVENT
BEGIN:VEVENT
UID:calendar.21552.field_date.0.4
SUMMARY:VELOBY: Закат На Птичи
DTSTAMP:20260420T041718Z
DTSTART:20260415T155000Z
DTEND:20260415T155000Z
URL;VALUE=URI:https://veloby.net/ride/2026/03/zakat-na-ptichi
END:VEVENT
BEGIN:VEVENT
UID:calendar.21535.field_date.0.5
SUMMARY:VELOBY: Карелия 2
DTSTAMP:20260420T041718Z
DTSTART:20260417T152000Z
DTEND:20260417T152000Z
URL;VALUE=URI:https://veloby.net/ride/2026/03/kareliya-2
END:VEVENT
BEGIN:VEVENT
UID:calendar.21561.field_date.0.6
SUMMARY:VELOBY: ПВД Чырвоны Стяг-Барысау з Аргонам  \n
 (BikePacking)
DTSTAMP:20260420T041718Z
DTSTART:20260419T050000Z
DTEND:20260419T050000Z
URL;VALUE=URI:https://veloby.net/ride/2026/04/pvd-chyrvony-styag-barysau-z-argonam-bikepacking
END:VEVENT
BEGIN:VEVENT
UID:calendar.21568.field_date.0.7
SUMMARY:VELOBY: Солы - Гервяты - Стации Мариинской  \n
 Кальварии - Жодишки - Данюшево - Сморгонь
DTSTAMP:20260420T041718Z
DTSTART:20260421T031000Z
DTEND:20260421T031000Z
URL;VALUE=URI:https://veloby.net/ride/2026/04/soly-gervyaty-statsii-mariinskoi-kalvarii-zhodishki-danyushevo-smorgon
END:VEVENT
BEGIN:VEVENT
UID:calendar.21569.field_date.0.8
SUMMARY:VELOBY: Минск- Леоновичи c ночевкой на природе  \n
 ( 310 км туда обратно )
DTSTAMP:20260420T041718Z
DTSTART:20260425T023000Z
DTEND:20260425T023000Z
URL;VALUE=URI:https://veloby.net/ride/2026/04/minsk-leonovii-i-obratno
END:VEVENT
END:VCALENDAR
